BEGIN:VCALENDAR
VERSION:2.0
PRODID:-//ICR USA - ECPv6.15.20//NONSGML v1.0//EN
CALSCALE:GREGORIAN
METHOD:PUBLISH
X-WR-CALNAME:ICR USA
X-ORIGINAL-URL:https://christianresponse.org
X-WR-CALDESC:Events for ICR USA
REFRESH-INTERVAL;VALUE=DURATION:PT1H
X-Robots-Tag:noindex
X-PUBLISHED-TTL:PT1H
BEGIN:VTIMEZONE
TZID:UTC
BEGIN:STANDARD
TZOFFSETFROM:+0000
TZOFFSETTO:+0000
TZNAME:UTC
DTSTART:20240101T000000
END:STANDARD
END:VTIMEZONE
BEGIN:VEVENT
DTSTART;TZID=UTC:20250810T104500
DTEND;TZID=UTC:20250810T120000
DTSTAMP:20260425T185612
CREATED:20250801T194301Z
LAST-MODIFIED:20250801T194335Z
UID:11956-1754822700-1754827200@christianresponse.org
SUMMARY:Pastor Arif at Rockwood
DESCRIPTION:Come hear from a brother who works directly with persecuted Christians in Pakistan. He will tell about freeing debt slaves from the brick kilns\, working with youth\, sharing Christ with people in his country\, and providing job training and small businesses for Christians.
URL:https://christianresponse.org/event/pastor-arif-at-rockwood/
LOCATION:Rockwood Church of God\, 133 NE 192nd Ave.\, Portland\, OR\, United States
END:VEVENT
END:VCALENDAR