BEGIN:VCALENDAR
VERSION:2.0
PRODID:-//ICR USA - ECPv6.15.20//NONSGML v1.0//EN
CALSCALE:GREGORIAN
METHOD:PUBLISH
X-WR-CALNAME:ICR USA
X-ORIGINAL-URL:https://christianresponse.org
X-WR-CALDESC:Events for ICR USA
REFRESH-INTERVAL;VALUE=DURATION:PT1H
X-Robots-Tag:noindex
X-PUBLISHED-TTL:PT1H
BEGIN:VTIMEZONE
TZID:UTC
BEGIN:STANDARD
TZOFFSETFROM:+0000
TZOFFSETTO:+0000
TZNAME:UTC
DTSTART:20230101T000000
END:STANDARD
END:VTIMEZONE
BEGIN:VEVENT
DTSTART;TZID=UTC:20241013T100000
DTEND;TZID=UTC:20241013T120000
DTSTAMP:20260421T080804
CREATED:20241001T171933Z
LAST-MODIFIED:20241001T171933Z
UID:11320-1728813600-1728820800@christianresponse.org
SUMMARY:ICR Speaker - Brother E
DESCRIPTION:Come hear Brother E. speak Sunday morning at Paradise Gospel Church.
URL:https://christianresponse.org/event/icr-speaker-brother-e/
LOCATION:Paradise Gospel Church\, 8629 Kendall Rd.\, Maple Fall\, WA\, 98266\, United States
END:VEVENT
END:VCALENDAR