BEGIN:VCALENDAR
VERSION:2.0
PRODID:-//ICR USA - ECPv6.15.20//NONSGML v1.0//EN
CALSCALE:GREGORIAN
METHOD:PUBLISH
X-WR-CALNAME:ICR USA
X-ORIGINAL-URL:https://christianresponse.org
X-WR-CALDESC:Events for ICR USA
REFRESH-INTERVAL;VALUE=DURATION:PT1H
X-Robots-Tag:noindex
X-PUBLISHED-TTL:PT1H
BEGIN:VTIMEZONE
TZID:UTC
BEGIN:STANDARD
TZOFFSETFROM:+0000
TZOFFSETTO:+0000
TZNAME:UTC
DTSTART:20230101T000000
END:STANDARD
END:VTIMEZONE
BEGIN:VEVENT
DTSTART;TZID=UTC:20241110T103000
DTEND;TZID=UTC:20241110T123000
DTSTAMP:20260422T084646
CREATED:20241023T212623Z
LAST-MODIFIED:20241024T191440Z
UID:11381-1731234600-1731241800@christianresponse.org
SUMMARY:Brother A at New Hope Baptist Church
DESCRIPTION:Brother A. was born in a Muslim community in Pakistan and identified as a nominal Christian. As a young man\, he would visit tombs to worship and joined his Muslim friends at the mosque. One day\, a Christian leader shared the gospel with him\, and Brother A. gave his life to Christ. Later\, during a prolonged illness\, Brother A. committed his life to spreading the gospel throughout Pakistan. Since then\, he has dedicated his life to evangelism in remote and unreached areas. He now pastors two churches\, and he cares for persecuted Christians\, helping them practically and legally.
URL:https://christianresponse.org/event/brother-a-at-new-hope-baptist-church/
LOCATION:New Hope Baptist Church\, 2100 Englewood Rd.\, Englewood\, FL\, 34223\, United States
END:VEVENT
END:VCALENDAR